BEGIN:VCALENDAR
VERSION:2.0
PRODID:-//Bradeur.fr//FR
CALSCALE:GREGORIAN
METHOD:PUBLISH
BEGIN:VEVENT
UID:567-apel-college-charles-de-foucauld-vide-greniers@bradeur.fr
DTSTAMP:20260425T180730Z
DTSTART:20260329T080000
DTEND:20260329T140000
SUMMARY:APEL Collège " Charles de Foucauld " — Vide-greniers
DESCRIPTION:Dimanche 29 Mars 2026\nde 8h00 à 14h00\n\nAPEL Collège " Char
 les de Foucauld "\n59200 Tourcoing
LOCATION:59200 Tourcoing
URL:https://bradeur.fr/braderie.php?slug=apel-college-charles-de-foucauld-v
 ide-greniers
END:VEVENT
END:VCALENDAR
