BEGIN:VCALENDAR
VERSION:2.0
PRODID:-//Bradeur.fr//FR
CALSCALE:GREGORIAN
METHOD:PUBLISH
BEGIN:VEVENT
UID:1140-apel-leo-lagrange-noel-a-bully-les-mines@bradeur.fr
DTSTAMP:20260425T180343Z
DTSTART:20261128T100000
DTEND:20261129T200000
SUMMARY:Apel Leo Lagrange Noel à Bully Les Mines
DESCRIPTION:Samedi 28 Novembre 2026\nde 10h00 à 20h00\n\nDimanche 29 Novem
 bre 2026\nde 10h00 à 17h00\n\n62160 Bully Les Mines
LOCATION:62160 Bully Les Mines
URL:https://bradeur.fr/braderie.php?slug=apel-leo-lagrange-noel-a-bully-les
 -mines
END:VEVENT
END:VCALENDAR
