BEGIN:VCALENDAR
VERSION:2.0
PRODID:-//Bradeur.fr//FR
CALSCALE:GREGORIAN
METHOD:PUBLISH
BEGIN:VEVENT
UID:771-arras-pays-d-artois-basket-feminin-brocante@bradeur.fr
DTSTAMP:20260426T000811Z
DTSTART:20260501T090000
DTEND:20260501T170000
SUMMARY:Arras Pays d'Artois Basket Féminin — Brocante
DESCRIPTION:Bienvenue sur le site officiel de la ville d'Arras. Découvrez 
 les actualités, événements et informations pratiques.\n\nVendredi 1 Mai 
 2026\nde 9h00 à 17h00\n\nArras Pays d'Artois Basket Féminin\n62000 Arras
LOCATION:62000 Arras
URL:https://bradeur.fr/braderie.php?slug=arras-pays-d-artois-basket-feminin
 -brocante
END:VEVENT
END:VCALENDAR
