BEGIN:VCALENDAR
VERSION:2.0
PRODID:-//Bradeur.fr//FR
CALSCALE:GREGORIAN
METHOD:PUBLISH
BEGIN:VEVENT
UID:896-arras-tennis-de-table-vide-greniers@bradeur.fr
DTSTAMP:20260425T191253Z
DTSTART:20260524T080000
DTEND:20260524T170000
SUMMARY:Arras tennis de table — Vide-greniers
DESCRIPTION:Bienvenue sur le site officiel du Arras Tennis de...\n\nDimanch
 e 24 Mai 2026\nde 8h00 à 17h00\n\nArras tennis de table\n62000 Arras
LOCATION:62000 Arras
URL:https://bradeur.fr/braderie.php?slug=arras-tennis-de-table-vide-grenier
 s
END:VEVENT
END:VCALENDAR
