BEGIN:VCALENDAR
VERSION:2.0
PRODID:-//Bradeur.fr//FR
CALSCALE:GREGORIAN
METHOD:PUBLISH
BEGIN:VEVENT
UID:535-art-de-la-mode-nature-a-hellemmes@bradeur.fr
DTSTAMP:20260425T180554Z
DTSTART:20260328T150000
DTEND:20260328T170000
SUMMARY:Art De La Mode Nature à Hellemmes
DESCRIPTION:Samedi 28 Mars 2026\nde 15h00 à 17h00\n\n59260 Hellemmes
LOCATION:59260 Hellemmes
URL:https://bradeur.fr/braderie.php?slug=art-de-la-mode-nature-a-hellemmes
END:VEVENT
END:VCALENDAR
