BEGIN:VCALENDAR
VERSION:2.0
PRODID:-//Bradeur.fr//FR
CALSCALE:GREGORIAN
METHOD:PUBLISH
BEGIN:VEVENT
UID:565-art-et-musique-art-et-musique-musique@bradeur.fr
DTSTAMP:20260425T181004Z
DTSTART:20260329T093000
DTEND:20260329T173000
SUMMARY:Art et Musique — Art Et Musique Musique
DESCRIPTION:Dimanche 29 Mars 2026\nde 9h30 à 17h30\n\nArt et Musique\n5918
 5 Provin
LOCATION:59185 Provin
URL:https://bradeur.fr/braderie.php?slug=art-et-musique-art-et-musique-musi
 que
END:VEVENT
END:VCALENDAR
