BEGIN:VCALENDAR
VERSION:2.0
PRODID:-//Bradeur.fr//FR
CALSCALE:GREGORIAN
METHOD:PUBLISH
BEGIN:VEVENT
UID:540-art-et-musique-bourse-collections@bradeur.fr
DTSTAMP:20260425T180318Z
DTSTART:20260328T093000
DTEND:20260328T163000
SUMMARY:Art et Musique — Bourse Collections
DESCRIPTION:Samedi 28 Mars 2026\nde 9h30 à 16h30\n\nArt et Musique\n59185 
 Provin
LOCATION:59185 Provin
URL:https://bradeur.fr/braderie.php?slug=art-et-musique-bourse-collections
END:VEVENT
END:VCALENDAR
