BEGIN:VCALENDAR
VERSION:2.0
PRODID:-//Bradeur.fr//FR
CALSCALE:GREGORIAN
METHOD:PUBLISH
BEGIN:VEVENT
UID:707-arthur-le-macon-vide-dressings-a-preseau@bradeur.fr
DTSTAMP:20260425T180724Z
DTSTART:20260419T090000
DTEND:20260419T170000
SUMMARY:Arthur Le Macon Vide Dressings à Preseau
DESCRIPTION:Dimanche 19 Avril 2026\nde 9h00 à 17h00\n\n59990 Preseau
LOCATION:59990 Preseau
URL:https://bradeur.fr/braderie.php?slug=arthur-le-macon-vide-dressings-a-p
 reseau
END:VEVENT
END:VCALENDAR
