BEGIN:VCALENDAR
VERSION:2.0
PRODID:-//Bradeur.fr//FR
CALSCALE:GREGORIAN
METHOD:PUBLISH
BEGIN:VEVENT
UID:738-artres-en-liesse-brocante@bradeur.fr
DTSTAMP:20260426T000555Z
DTSTART:20260426T080000
DTEND:20260426T160000
SUMMARY:Artres en liesse — Brocante
DESCRIPTION:Dimanche 26 Avril 2026\nde 8h00 à 16h00\n\nArtres en liesse\n5
 9269 Artres
LOCATION:59269 Artres
URL:https://bradeur.fr/braderie.php?slug=artres-en-liesse-brocante
END:VEVENT
END:VCALENDAR
