BEGIN:VCALENDAR
VERSION:2.0
PRODID:-//Bradeur.fr//FR
CALSCALE:GREGORIAN
METHOD:PUBLISH
BEGIN:VEVENT
UID:685-asc-jean-moulin-brocante@bradeur.fr
DTSTAMP:20260425T220319Z
DTSTART:20260412T080000
DTEND:20260412T180000
SUMMARY:ASC Jean Moulin — Brocante
DESCRIPTION:Dimanche 12 Avril 2026\nde 8h00 à 18h00\n\nASC Jean Moulin\n62
 630 Etaples
LOCATION:62630 Etaples
URL:https://bradeur.fr/braderie.php?slug=asc-jean-moulin-brocante
END:VEVENT
END:VCALENDAR
