BEGIN:VCALENDAR
VERSION:2.0
PRODID:-//Bradeur.fr//FR
CALSCALE:GREGORIAN
METHOD:PUBLISH
BEGIN:VEVENT
UID:848-ascote-bourse-a-conchil-le-temple@bradeur.fr
DTSTAMP:20260425T190835Z
DTSTART:20260510T100000
DTEND:20260510T180000
SUMMARY:Ascote Bourse à Conchil Le Temple
DESCRIPTION:Dimanche 10 Mai 2026\nde 10h00 à 18h00\n\n62180 Conchil Le Tem
 ple
LOCATION:62180 Conchil Le Temple
URL:https://bradeur.fr/braderie.php?slug=ascote-bourse-a-conchil-le-temple
END:VEVENT
END:VCALENDAR
