BEGIN:VCALENDAR
VERSION:2.0
PRODID:-//Bradeur.fr//FR
CALSCALE:GREGORIAN
METHOD:PUBLISH
BEGIN:VEVENT
UID:1129-ascote-noel-a-conchil-le-temple@bradeur.fr
DTSTAMP:20260425T180133Z
DTSTART:20261107T100000
DTEND:20261108T180000
SUMMARY:Ascote Noel à Conchil Le Temple
DESCRIPTION:Samedi 7 Novembre 2026\nde 10h00 à 18h00\n\nDimanche 8 Novembr
 e 2026\nde 10h00 à 18h00\n\n62180 Conchil Le Temple
LOCATION:62180 Conchil Le Temple
URL:https://bradeur.fr/braderie.php?slug=ascote-noel-a-conchil-le-temple
END:VEVENT
END:VCALENDAR
