BEGIN:VCALENDAR
VERSION:2.0
PRODID:-//Bradeur.fr//FR
CALSCALE:GREGORIAN
METHOD:PUBLISH
BEGIN:VEVENT
UID:677-asobc-enfant-a-carvin@bradeur.fr
DTSTAMP:20260425T180436Z
DTSTART:20260412T090000
DTEND:20260412T140000
SUMMARY:Asobc Enfant à Carvin
DESCRIPTION:Dimanche 12 Avril 2026\nde 9h00 à 14h00\n\n62220 Carvin
LOCATION:62220 Carvin
URL:https://bradeur.fr/braderie.php?slug=asobc-enfant-a-carvin
END:VEVENT
END:VCALENDAR
