BEGIN:VCALENDAR
VERSION:2.0
PRODID:-//Bradeur.fr//FR
CALSCALE:GREGORIAN
METHOD:PUBLISH
BEGIN:VEVENT
UID:635-asso-apebossuet59650-gmail-com-ape-bossuet-bourse@bradeur.fr
DTSTAMP:20260425T180435Z
DTSTART:20260411T103000
DTEND:20260411T143000
SUMMARY:asso.apebossuet59650@gmail.com — Ape Bossuet Bourse
DESCRIPTION:Samedi 11 Avril 2026\nde 10h30 à 14h30\n\nasso.apebossuet59650
 @gmail.com\n59650 Villeneuve D'ascq
LOCATION:59650 Villeneuve D'ascq
URL:https://bradeur.fr/braderie.php?slug=asso-apebossuet59650-gmail-com-ape
 -bossuet-bourse
END:VEVENT
END:VCALENDAR
