BEGIN:VCALENDAR
VERSION:2.0
PRODID:-//Bradeur.fr//FR
CALSCALE:GREGORIAN
METHOD:PUBLISH
BEGIN:VEVENT
UID:927-associatin-aux-charmes-d-antan-vide-greniers@bradeur.fr
DTSTAMP:20260425T194358Z
DTSTART:20260606T083000
DTEND:20260606T163000
SUMMARY:Associatin AUX CHARMES D'ANTAN — Vide-greniers
DESCRIPTION:Bienvenue sur le site de la ville de Saint-Saulve ! Vous y trou
 verez les informations nécessaires à toutes vos démarche et bien plus en
 core !\n\nSamedi 6 Juin 2026\nde 8h30 à 16h30\n\nAssociatin AUX CHARMES D'
 ANTAN\n59880 Saint Saulve
LOCATION:59880 Saint Saulve
URL:https://bradeur.fr/braderie.php?slug=associatin-aux-charmes-d-antan-vid
 e-greniers
END:VEVENT
END:VCALENDAR
