BEGIN:VCALENDAR
VERSION:2.0
PRODID:-//Bradeur.fr//FR
CALSCALE:GREGORIAN
METHOD:PUBLISH
BEGIN:VEVENT
UID:805-association-assprodor-brocante@bradeur.fr
DTSTAMP:20260426T044429Z
DTSTART:20260503T060000
DTEND:20260503T180000
SUMMARY:Association ASSPRODOR — Brocante
DESCRIPTION:Site officiel de cette station balnéaire de la Côte d'Opale. 
 Informations pratiques et touristiques.\n\nDimanche 3 Mai 2026\nde 6h00 à 
 18h00\n\nAssociation ASSPRODOR\n62930 Wimereux
LOCATION:62930 Wimereux
URL:https://bradeur.fr/braderie.php?slug=association-assprodor-brocante
END:VEVENT
END:VCALENDAR
