BEGIN:VCALENDAR
VERSION:2.0
PRODID:-//Bradeur.fr//FR
CALSCALE:GREGORIAN
METHOD:PUBLISH
BEGIN:VEVENT
UID:521-association-aux-p-tites-mains-aux-ptites-mains-enfant@bradeur.fr
DTSTAMP:20260425T180846Z
DTSTART:20260322T083000
DTEND:20260322T140000
SUMMARY:Association Aux P'tites Mains — Aux Ptites Mains Enfant
DESCRIPTION:Dimanche 22 Mars 2026\nde 8h30 à 14h00\n\nAssociation Aux P'ti
 tes Mains\n59143 Lederzeele
LOCATION:59143 Lederzeele
URL:https://bradeur.fr/braderie.php?slug=association-aux-p-tites-mains-aux-
 ptites-mains-enfant
END:VEVENT
END:VCALENDAR
