BEGIN:VCALENDAR
VERSION:2.0
PRODID:-//Bradeur.fr//FR
CALSCALE:GREGORIAN
METHOD:PUBLISH
BEGIN:VEVENT
UID:809-association-bien-vivre-a-merville-brocante@bradeur.fr
DTSTAMP:20260426T032859Z
DTSTART:20260508T060000
DTEND:20260508T150000
SUMMARY:association Bien Vivre à Merville — Brocante
DESCRIPTION:Vendredi 8 Mai 2026\nde 6h00 à 15h00\n\nassociation Bien Vivre
  à Merville\n59660 Merville
LOCATION:59660 Merville
URL:https://bradeur.fr/braderie.php?slug=association-bien-vivre-a-merville-
 brocante
END:VEVENT
END:VCALENDAR
