BEGIN:VCALENDAR
VERSION:2.0
PRODID:-//Bradeur.fr//FR
CALSCALE:GREGORIAN
METHOD:PUBLISH
BEGIN:VEVENT
UID:803-association-bien-vivre-aux-bruyeres-brocante@bradeur.fr
DTSTAMP:20260426T022626Z
DTSTART:20260503T080000
DTEND:20260503T170000
SUMMARY:Association Bien Vivre aux Bruyères — Brocante
DESCRIPTION:Dimanche 3 Mai 2026\nde 8h00 à 17h00\n\nAssociation Bien Vivre
  aux Bruyères\n62120 Racquinghem
LOCATION:62120 Racquinghem
URL:https://bradeur.fr/braderie.php?slug=association-bien-vivre-aux-bruyere
 s-brocante
END:VEVENT
END:VCALENDAR
