BEGIN:VCALENDAR
VERSION:2.0
PRODID:-//Bradeur.fr//FR
CALSCALE:GREGORIAN
METHOD:PUBLISH
BEGIN:VEVENT
UID:600-association-c-ur-d-avant-bourse-collections@bradeur.fr
DTSTAMP:20260425T180134Z
DTSTART:20260404T083000
DTEND:20260404T170000
SUMMARY:Association cur d'avant — Bourse Collections
DESCRIPTION:Bienvenue sur le site officiel de la ville de Liévin : démarc
 hes en ligne, événements et actualités.\n\nSamedi 4 Avril 2026\nde 8h30 
 à 17h00\n\nAssociation cur d'avant\n62800 Lievin
LOCATION:62800 Lievin
URL:https://bradeur.fr/braderie.php?slug=association-c-ur-d-avant-bourse-co
 llections
END:VEVENT
END:VCALENDAR
