BEGIN:VCALENDAR
VERSION:2.0
PRODID:-//Bradeur.fr//FR
CALSCALE:GREGORIAN
METHOD:PUBLISH
BEGIN:VEVENT
UID:616-association-c-ur-d-avant-vetements@bradeur.fr
DTSTAMP:20260425T205203Z
DTSTART:20260405T090000
DTEND:20260405T140000
SUMMARY:Association Cur d'Avant — Vêtements
DESCRIPTION:Bienvenue sur le site officiel de la ville de Liévin : démarc
 hes en ligne, événements et actualités.\n\nDimanche 5 Avril 2026\nde 9h0
 0 à 14h00\n\nAssociation Cur d'Avant\n62800 Lievin
LOCATION:62800 Lievin
URL:https://bradeur.fr/braderie.php?slug=association-c-ur-d-avant-vetements
END:VEVENT
END:VCALENDAR
