BEGIN:VCALENDAR
VERSION:2.0
PRODID:-//Bradeur.fr//FR
CALSCALE:GREGORIAN
METHOD:PUBLISH
BEGIN:VEVENT
UID:1081-association-c-ur-davant-coeur-avant-disque@bradeur.fr
DTSTAMP:20260425T194253Z
DTSTART:20260920T090000
DTEND:20260920T170000
SUMMARY:Association Cur Davant — Coeur Avant Disque
DESCRIPTION:Bienvenue sur le site officiel de la ville de Liévin : démarc
 hes en ligne, événements et actualités.\n\nDimanche 20 Septembre 2026\nd
 e 9h00 à 17h00\n\nAssociation Cur Davant\n62800 Lievin
LOCATION:62800 Lievin
URL:https://bradeur.fr/braderie.php?slug=association-c-ur-davant-coeur-avan
 t-disque
END:VEVENT
END:VCALENDAR
