BEGIN:VCALENDAR
VERSION:2.0
PRODID:-//Bradeur.fr//FR
CALSCALE:GREGORIAN
METHOD:PUBLISH
BEGIN:VEVENT
UID:591-association-ch-ti-hotwheels-convention-chti-hotwheels-convention@br
 adeur.fr
DTSTAMP:20260425T180717Z
DTSTART:20260404T100000
DTEND:20260404T180000
SUMMARY:Association Ch'ti Hotwheels Convention — Chti Hotwheels Conventio
 n
DESCRIPTION:Samedi 4 Avril 2026\nde 10h00 à 18h00\n\nAssociation Ch'ti Hot
 wheels Convention\n59910 Bondues
LOCATION:59910 Bondues
URL:https://bradeur.fr/braderie.php?slug=association-ch-ti-hotwheels-conven
 tion-chti-hotwheels-convention
END:VEVENT
END:VCALENDAR
