BEGIN:VCALENDAR
VERSION:2.0
PRODID:-//Bradeur.fr//FR
CALSCALE:GREGORIAN
METHOD:PUBLISH
BEGIN:VEVENT
UID:916-association-champeaux-animations-loisirs-vide-greniers@bradeur.fr
DTSTAMP:20260425T205332Z
DTSTART:20260530T073000
DTEND:20260530T180000
SUMMARY:Association Champeaux Animations & Loisirs — Vide-greniers
DESCRIPTION:﻿  Informations en temps réel : Facebook &amp; Panneau pocke
 t  Mairie  Horaires d'ouverture de la mairie      Jour  Heures          Lun
 di  13h00-17h30      Mardi  8h00-12h00 et 13h00-17h30      Mercredi  Fermé
       Jeudi  13h00-17h30      Vendredi  8h00-12h00 et 13h00-17h30      Same
 di  08h30-12h00              La mairie ne mandate aucune société pour int
 ervenir à votre domicile en son nom contrai
LOCATION:77720 Champeaux
URL:https://bradeur.fr/braderie.php?slug=association-champeaux-animations-l
 oisirs-vide-greniers
END:VEVENT
END:VCALENDAR
