BEGIN:VCALENDAR
VERSION:2.0
PRODID:-//Bradeur.fr//FR
CALSCALE:GREGORIAN
METHOD:PUBLISH
BEGIN:VEVENT
UID:486-association-chats-noirs-et-compagnie-chats-noirs-et-compagnie@brade
 ur.fr
DTSTAMP:20260425T181128Z
DTSTART:20260314T090000
DTEND:20260314T170000
SUMMARY:association chats noirs et compagnie — Chats Noirs Et Compagnie
DESCRIPTION:Site officiel de la Ville de Loos. Retrouvez toute l'actualité
 , l'agenda culturel, les démarches administratives et les grands projets e
 n cours.\n\nSamedi 14 Mars 2026\nde 9h00 à 17h00\n\nassociation chats noir
 s et compagnie\n59120 Loos (lez Lille)\n\nℹ️ Seul l'organisateur expose
  — aucun emplacement à réserver
LOCATION:59120 Loos (lez Lille)
URL:https://bradeur.fr/braderie.php?slug=association-chats-noirs-et-compagn
 ie-chats-noirs-et-compagnie
END:VEVENT
END:VCALENDAR
