BEGIN:VCALENDAR
VERSION:2.0
PRODID:-//Bradeur.fr//FR
CALSCALE:GREGORIAN
METHOD:PUBLISH
BEGIN:VEVENT
UID:1080-association-des-collectionneurs-annezin-vendin-oblinghem-brocante@
 bradeur.fr
DTSTAMP:20260425T210919Z
DTSTART:20260920T080000
DTEND:20260920T170000
SUMMARY:association des collectionneurs Annezin Vendin Oblinghem — Brocan
 te
DESCRIPTION:Dimanche 20 Septembre 2026\nde 8h00 à 17h00\n\nassociation des
  collectionneurs Annezin Vendin Oblinghem\n62232 Annezin
LOCATION:62232 Annezin
URL:https://bradeur.fr/braderie.php?slug=association-des-collectionneurs-an
 nezin-vendin-oblinghem-brocante
END:VEVENT
END:VCALENDAR
