BEGIN:VCALENDAR
VERSION:2.0
PRODID:-//Bradeur.fr//FR
CALSCALE:GREGORIAN
METHOD:PUBLISH
BEGIN:VEVENT
UID:1088-association-des-collectionneurs-bourse-collections@bradeur.fr
DTSTAMP:20260425T204905Z
DTSTART:20260927T090000
DTEND:20260927T160000
SUMMARY:association des collectionneurs — Bourse Collections
DESCRIPTION:Site officiel de la ville. Retrouvez tous nos services et notre
  actualité.\n\nDimanche 27 Septembre 2026\nde 9h00 à 16h00\n\nassociation
  des collectionneurs\n59320 Hallennes Lez Haubourdin
LOCATION:59320 Hallennes Lez Haubourdin
URL:https://bradeur.fr/braderie.php?slug=association-des-collectionneurs-bo
 urse-collections
END:VEVENT
END:VCALENDAR
