BEGIN:VCALENDAR
VERSION:2.0
PRODID:-//Bradeur.fr//FR
CALSCALE:GREGORIAN
METHOD:PUBLISH
BEGIN:VEVENT
UID:490-association-des-ecoliers-annequinois-livres@bradeur.fr
DTSTAMP:20260425T180835Z
DTSTART:20260314T100000
DTEND:20260314T170000
SUMMARY:Association des écoliers Annequinois — Livres
DESCRIPTION:Annequin, ville Annequin, Mairie Annequin, Commune Annequin, Yv
 es Dupont\n\nSamedi 14 Mars 2026\nde 10h00 à 17h00\n\nAssociation des éco
 liers Annequinois\n62149 Annequin
LOCATION:62149 Annequin
URL:https://bradeur.fr/braderie.php?slug=association-des-ecoliers-annequino
 is-livres
END:VEVENT
END:VCALENDAR
