BEGIN:VCALENDAR
VERSION:2.0
PRODID:-//Bradeur.fr//FR
CALSCALE:GREGORIAN
METHOD:PUBLISH
BEGIN:VEVENT
UID:481-association-des-familles-de-ronchin-vetements@bradeur.fr
DTSTAMP:20260425T143310Z
DTSTART:20260311T090000
DTEND:20260312T123000
SUMMARY:association des familles de Ronchin — Vêtements
DESCRIPTION:Mercredi 11 Mars 2026\nde 9h00 à 12h30\n\nJeudi 12 Mars 2026\n
 de 15h00 à 19h00\n\nassociation des familles de Ronchin\n59790 Ronchin
LOCATION:59790 Ronchin
URL:https://bradeur.fr/braderie.php?slug=association-des-familles-de-ronchi
 n-vetements
END:VEVENT
END:VCALENDAR
