BEGIN:VCALENDAR
VERSION:2.0
PRODID:-//Bradeur.fr//FR
CALSCALE:GREGORIAN
METHOD:PUBLISH
BEGIN:VEVENT
UID:590-association-des-familles-vetements@bradeur.fr
DTSTAMP:20260425T180553Z
DTSTART:20260403T093000
DTEND:20260404T153000
SUMMARY:association des familles — Vêtements
DESCRIPTION:Site officiel de la ville de Cappelle la Grande.\n\nVendredi 3 
 Avril 2026\nde 9h30 à 15h30\n\nSamedi 4 Avril 2026\nde 17h00 à 19h00\n\na
 ssociation des familles\n59180 Cappelle La Grande
LOCATION:59180 Cappelle La Grande
URL:https://bradeur.fr/braderie.php?slug=association-des-familles-vetements
END:VEVENT
END:VCALENDAR
