BEGIN:VCALENDAR
VERSION:2.0
PRODID:-//Bradeur.fr//FR
CALSCALE:GREGORIAN
METHOD:PUBLISH
BEGIN:VEVENT
UID:917-association-des-rouges-barres-vide-greniers@bradeur.fr
DTSTAMP:20260425T193109Z
DTSTART:20260531T080000
DTEND:20260531T130000
SUMMARY:Association des Rouges Barres — Vide-greniers
DESCRIPTION:Association du quartier des Rouges Barres à Marcq-en-Baroeul (
 ateliers adultes et enfants, vide grenier, spectacle pour enfants, cadre de
  vie...)\n\nDimanche 31 Mai 2026\nde 8h00 à 13h00\n\nAssociation des Rouge
 s Barres\n59700 Marcq En Baroeul
LOCATION:59700 Marcq En Baroeul
URL:https://bradeur.fr/braderie.php?slug=association-des-rouges-barres-vide
 -greniers
END:VEVENT
END:VCALENDAR
