BEGIN:VCALENDAR
VERSION:2.0
PRODID:-//Bradeur.fr//FR
CALSCALE:GREGORIAN
METHOD:PUBLISH
BEGIN:VEVENT
UID:811-association-du-hameau-des-bois-puces@bradeur.fr
DTSTAMP:20260426T032650Z
DTSTART:20260508T070000
DTEND:20260508T130000
SUMMARY:Association du Hameau des Bois — Puces
DESCRIPTION:450 emplacements ( Sur la M91 Hameau des Bois - Bousbecque )\n\
 nVendredi 8 Mai 2026\nde 7h00 à 13h00\n\nAssociation du Hameau des Bois\n5
 9166 Bousbecque
LOCATION:59166 Bousbecque
URL:https://bradeur.fr/braderie.php?slug=association-du-hameau-des-bois-puc
 es
END:VEVENT
END:VCALENDAR
