BEGIN:VCALENDAR
VERSION:2.0
PRODID:-//Bradeur.fr//FR
CALSCALE:GREGORIAN
METHOD:PUBLISH
BEGIN:VEVENT
UID:508-association-edmee-et-ses-createurs-edmee-bourse@bradeur.fr
DTSTAMP:20260425T180123Z
DTSTART:20260315T090000
DTEND:20260315T170000
SUMMARY:Association Edmée et ses Créateurs — Edmee Bourse
DESCRIPTION:Dimanche 15 Mars 2026\nde 9h00 à 17h00\n\nAssociation Edmée e
 t ses Créateurs\n62240 Cremarest
LOCATION:62240 Cremarest
URL:https://bradeur.fr/braderie.php?slug=association-edmee-et-ses-createurs
 -edmee-bourse
END:VEVENT
END:VCALENDAR
