BEGIN:VCALENDAR
VERSION:2.0
PRODID:-//Bradeur.fr//FR
CALSCALE:GREGORIAN
METHOD:PUBLISH
BEGIN:VEVENT
UID:751-association-era-history-show-puces@bradeur.fr
DTSTAMP:20260425T235720Z
DTSTART:20260426T080000
DTEND:20260426T150000
SUMMARY:Association Era & History Show — Puces
DESCRIPTION:Bienvenue sur le site internet de la ville de Oignies. Retrouve
 z toutes les actualités de la ville, les services, associations et commerc
 es de la ville.\n\nDimanche 26 Avril 2026\nde 8h00 à 15h00\n\nAssociation 
 Era & History Show\n62590 Oignies
LOCATION:62590 Oignies
URL:https://bradeur.fr/braderie.php?slug=association-era-history-show-puces
END:VEVENT
END:VCALENDAR
