BEGIN:VCALENDAR
VERSION:2.0
PRODID:-//Bradeur.fr//FR
CALSCALE:GREGORIAN
METHOD:PUBLISH
BEGIN:VEVENT
UID:514-association-faire-lieu-faire-lieu-donnerie@bradeur.fr
DTSTAMP:20260425T181004Z
DTSTART:20260321T093000
DTEND:20260321T123000
SUMMARY:Association Faire Lieu — Faire Lieu Donnerie
DESCRIPTION:Site officiel de la mairie contenant l'actualité de la commune
  et toutes les informations pratiques et indispensables sur Anstaing et son
  cadre de vie.\n\nSamedi 21 Mars 2026\nde 9h30 à 12h30\n\nAssociation Fair
 e Lieu\n59152 Anstaing\n\nℹ️ Seul l'organisateur expose — aucun empla
 cement à réserver
LOCATION:59152 Anstaing
URL:https://bradeur.fr/braderie.php?slug=association-faire-lieu-faire-lieu-
 donnerie
END:VEVENT
END:VCALENDAR
