BEGIN:VCALENDAR
VERSION:2.0
PRODID:-//Bradeur.fr//FR
CALSCALE:GREGORIAN
METHOD:PUBLISH
BEGIN:VEVENT
UID:816-association-familiale-brocante@bradeur.fr
DTSTAMP:20260425T180344Z
DTSTART:20280508T080000
DTEND:20280508T140000
SUMMARY:association familiale — Brocante
DESCRIPTION:L’Association Familiale de Fleurbaix organise les loisirs pou
 r vos enfants, le baby-gym, des ateliers parent-enfant, des vide-dressing, 
 bourse aux jouets, la brocante du 8 mai et des ateliers de travaux d'aiguil
 les\n\nLundi 8 Mai 2028\nde 8h00 à 14h00\n\nassociation familiale\n62840 F
 leurbaix
LOCATION:62840 Fleurbaix
URL:https://bradeur.fr/braderie.php?slug=association-familiale-brocante
END:VEVENT
END:VCALENDAR
