BEGIN:VCALENDAR
VERSION:2.0
PRODID:-//Bradeur.fr//FR
CALSCALE:GREGORIAN
METHOD:PUBLISH
BEGIN:VEVENT
UID:986-association-familiale-de-templeuve-en-pevele-brocante@bradeur.fr
DTSTAMP:20260426T022615Z
DTSTART:20260628T080000
DTEND:20260628T130000
SUMMARY:Association Familiale de Templeuve en Pévèle — Brocante
DESCRIPTION:Dimanche 28 Juin 2026\nde 8h00 à 13h00\n\nAssociation Familial
 e de Templeuve en Pévèle\n59242 Templeuve En Pévèle
LOCATION:59242 Templeuve En Pévèle
URL:https://bradeur.fr/braderie.php?slug=association-familiale-de-templeuve
 -en-pevele-brocante
END:VEVENT
END:VCALENDAR
