BEGIN:VCALENDAR
VERSION:2.0
PRODID:-//Bradeur.fr//FR
CALSCALE:GREGORIAN
METHOD:PUBLISH
BEGIN:VEVENT
UID:1099-association-familiale-de-templeuve-en-pevele-brocante-1@bradeur.fr
DTSTAMP:20260425T181521Z
DTSTART:20261004T080000
DTEND:20261004T130000
SUMMARY:Association Familiale de Templeuve en Pévèle — Brocante
DESCRIPTION:Dimanche 4 Octobre 2026\nde 8h00 à 13h00\n\nAssociation Famili
 ale de Templeuve en Pévèle\n59242 Templeuve En Pévèle
LOCATION:59242 Templeuve En Pévèle
URL:https://bradeur.fr/braderie.php?slug=association-familiale-de-templeuve
 -en-pevele-brocante-1
END:VEVENT
END:VCALENDAR
