BEGIN:VCALENDAR
VERSION:2.0
PRODID:-//Bradeur.fr//FR
CALSCALE:GREGORIAN
METHOD:PUBLISH
BEGIN:VEVENT
UID:741-association-festi-prouvy-brocante@bradeur.fr
DTSTAMP:20260425T235603Z
DTSTART:20260426T070000
DTEND:20260426T180000
SUMMARY:association Festi-Prouvy — Brocante
DESCRIPTION:Dimanche 26 Avril 2026\nde 7h00 à 18h00\n\nassociation Festi-P
 rouvy\n59121 Prouvy
LOCATION:59121 Prouvy
URL:https://bradeur.fr/braderie.php?slug=association-festi-prouvy-brocante
END:VEVENT
END:VCALENDAR
