BEGIN:VCALENDAR
VERSION:2.0
PRODID:-//Bradeur.fr//FR
CALSCALE:GREGORIAN
METHOD:PUBLISH
BEGIN:VEVENT
UID:931-association-inven-ton-la-vie-vide-greniers@bradeur.fr
DTSTAMP:20260425T210401Z
DTSTART:20260606T070000
DTEND:20260606T180000
SUMMARY:association INVEN'TON LA VIE — Vide-greniers
DESCRIPTION:La ville de Villeurbanne\n\nSamedi 6 Juin 2026\nde 7h00 à 18h0
 0\n\nassociation INVEN'TON LA VIE\n69100 Villeurbanne
LOCATION:69100 Villeurbanne
URL:https://bradeur.fr/braderie.php?slug=association-inven-ton-la-vie-vide-
 greniers
END:VEVENT
END:VCALENDAR
