BEGIN:VCALENDAR
VERSION:2.0
PRODID:-//Bradeur.fr//FR
CALSCALE:GREGORIAN
METHOD:PUBLISH
BEGIN:VEVENT
UID:750-association-la-grande-recre-de-pantigny-puces@bradeur.fr
DTSTAMP:20260426T000638Z
DTSTART:20260426T090000
DTEND:20260426T160000
SUMMARY:association la grande récré de Pantigny — Puces
DESCRIPTION:Dimanche 26 Avril 2026\nde 9h00 à 16h00\n\nassociation la gran
 de récré de Pantigny\n62110 Henin Beaumont
LOCATION:62110 Henin Beaumont
URL:https://bradeur.fr/braderie.php?slug=association-la-grande-recre-de-pan
 tigny-puces
END:VEVENT
END:VCALENDAR
