BEGIN:VCALENDAR
VERSION:2.0
PRODID:-//Bradeur.fr//FR
CALSCALE:GREGORIAN
METHOD:PUBLISH
BEGIN:VEVENT
UID:1011-association-le-petit-ambleteusois-braderie@bradeur.fr
DTSTAMP:20260425T194146Z
DTSTART:20260712T080000
DTEND:20260712T180000
SUMMARY:Association Le Petit Ambleteusois — Braderie
DESCRIPTION:Dimanche 12 Juillet 2026\nde 8h00 à 18h00\n\nAssociation Le Pe
 tit Ambleteusois\n62164 Ambleteuse
LOCATION:62164 Ambleteuse
URL:https://bradeur.fr/braderie.php?slug=association-le-petit-ambleteusois-
 braderie
END:VEVENT
END:VCALENDAR
