BEGIN:VCALENDAR
VERSION:2.0
PRODID:-//Bradeur.fr//FR
CALSCALE:GREGORIAN
METHOD:PUBLISH
BEGIN:VEVENT
UID:536-association-leda-les-enfants-d-abord-leda-enfant@bradeur.fr
DTSTAMP:20260425T180836Z
DTSTART:20260328T090000
DTEND:20260328T130000
SUMMARY:Association LEDA les enfants d'abord — Leda Enfant
DESCRIPTION:Bienvenue sur le site officiel de Lambersart. Découvrez ici to
 us les services de la ville : démarches en ligne, événements et actualit
 és.\n\nSamedi 28 Mars 2026\nde 9h00 à 13h00\n\nAssociation LEDA les enfan
 ts d'abord\n59130 Lambersart
LOCATION:59130 Lambersart
URL:https://bradeur.fr/braderie.php?slug=association-leda-les-enfants-d-abo
 rd-leda-enfant
END:VEVENT
END:VCALENDAR
