BEGIN:VCALENDAR
VERSION:2.0
PRODID:-//Bradeur.fr//FR
CALSCALE:GREGORIAN
METHOD:PUBLISH
BEGIN:VEVENT
UID:604-association-les-floconneux-vide-greniers@bradeur.fr
DTSTAMP:20260425T180133Z
DTSTART:20260405T090000
DTEND:20260405T150000
SUMMARY:association les Floconneux — Vide-greniers
DESCRIPTION:Dimanche 5 Avril 2026\nde 9h00 à 15h00\n\nassociation les Floc
 onneux\n59200 Tourcoing
LOCATION:59200 Tourcoing
URL:https://bradeur.fr/braderie.php?slug=association-les-floconneux-vide-gr
 eniers
END:VEVENT
END:VCALENDAR
