BEGIN:VCALENDAR
VERSION:2.0
PRODID:-//Bradeur.fr//FR
CALSCALE:GREGORIAN
METHOD:PUBLISH
BEGIN:VEVENT
UID:1058-association-les-floconneux-vide-greniers-1@bradeur.fr
DTSTAMP:20260425T180318Z
DTSTART:20260830T090000
DTEND:20260830T150000
SUMMARY:association les Floconneux — Vide-greniers
DESCRIPTION:Dimanche 30 Août 2026\nde 9h00 à 15h00\n\nassociation les Flo
 conneux\n59200 Tourcoing
LOCATION:59200 Tourcoing
URL:https://bradeur.fr/braderie.php?slug=association-les-floconneux-vide-gr
 eniers-1
END:VEVENT
END:VCALENDAR
