BEGIN:VCALENDAR
VERSION:2.0
PRODID:-//Bradeur.fr//FR
CALSCALE:GREGORIAN
METHOD:PUBLISH
BEGIN:VEVENT
UID:603-association-les-neuches-co-brocante@bradeur.fr
DTSTAMP:20260425T180548Z
DTSTART:20260405T060000
DTEND:20260405T170000
SUMMARY:association les Neuches cô — Brocante
DESCRIPTION:Dimanche 5 Avril 2026\nde 6h00 à 17h00\n\nassociation les Neuc
 hes cô\n59229 Uxem
LOCATION:59229 Uxem
URL:https://bradeur.fr/braderie.php?slug=association-les-neuches-co-brocant
 e
END:VEVENT
END:VCALENDAR
