BEGIN:VCALENDAR
VERSION:2.0
PRODID:-//Bradeur.fr//FR
CALSCALE:GREGORIAN
METHOD:PUBLISH
BEGIN:VEVENT
UID:739-association-les-sourires-de-grand-bray-brocante@bradeur.fr
DTSTAMP:20260426T023027Z
DTSTART:20260426T080000
DTEND:20260426T160000
SUMMARY:Association les sourires de Grand Bray — Brocante
DESCRIPTION:Site officiel présentant la ville, son patrimoine, son musée,
  son parc animalier, située entre Lille et Valenciennes, une petite ville 
 qui a tout d'une grande.\n\nDimanche 26 Avril 2026\nde 8h00 à 16h00\n\nAss
 ociation les sourires de Grand Bray\n59178 Hasnon
LOCATION:59178 Hasnon
URL:https://bradeur.fr/braderie.php?slug=association-les-sourires-de-grand-
 bray-brocante
END:VEVENT
END:VCALENDAR
