BEGIN:VCALENDAR
VERSION:2.0
PRODID:-//Bradeur.fr//FR
CALSCALE:GREGORIAN
METHOD:PUBLISH
BEGIN:VEVENT
UID:711-association-limont-livres-livres@bradeur.fr
DTSTAMP:20260425T180712Z
DTSTART:20260419T100000
DTEND:20260913T153000
SUMMARY:Association Limont Livres — Livres
DESCRIPTION:Nouveau site internet 2021.\nN'hésitez pas à le consulter ré
 gulièrement, de nouvelles actualités pourraient vous intéresser.\n\nDima
 nche 19 Avril 2026\nde 10h00 à 15h30\n\nDimanche 13 Septembre 2026\nde 10h
 00 à 17h30\n\nAssociation Limont Livres\n59330 Limont Fontaine\n\nℹ️ S
 eul l'organisateur expose — aucun emplacement à réserver
LOCATION:59330 Limont Fontaine
URL:https://bradeur.fr/braderie.php?slug=association-limont-livres-livres
END:VEVENT
END:VCALENDAR
