BEGIN:VCALENDAR
VERSION:2.0
PRODID:-//Bradeur.fr//FR
CALSCALE:GREGORIAN
METHOD:PUBLISH
BEGIN:VEVENT
UID:1139-association-limont-livres-livres-1@bradeur.fr
DTSTAMP:20260425T180724Z
DTSTART:20261122T100000
DTEND:20261122T173000
SUMMARY:Association Limont Livres — Livres
DESCRIPTION:Nouveau site internet 2021.\nN'hésitez pas à le consulter ré
 gulièrement, de nouvelles actualités pourraient vous intéresser.\n\nDima
 nche 22 Novembre 2026\nde 10h00 à 17h30\n\nAssociation Limont Livres\n5933
 0 Limont Fontaine
LOCATION:59330 Limont Fontaine
URL:https://bradeur.fr/braderie.php?slug=association-limont-livres-livres-1
END:VEVENT
END:VCALENDAR
