BEGIN:VCALENDAR
VERSION:2.0
PRODID:-//Bradeur.fr//FR
CALSCALE:GREGORIAN
METHOD:PUBLISH
BEGIN:VEVENT
UID:639-association-loisirs-detente-brocante@bradeur.fr
DTSTAMP:20260425T205608Z
DTSTART:20260411T090000
DTEND:20260411T180000
SUMMARY:Association Loisirs DÃ©tente â€” Brocante
DESCRIPTION:Douchy-les-Mines Vivez, dÃ©couvrez, partagez. Portail famille C
 NI / PASSEPORT Menus de la ville DÃ©chÃ¨terie/ordures Signalement(s) Actual
 itÃ©s et agenda DÃ©couvrez les derniÃ¨res actualitÃ©s et les Ã©vÃ©nements Ã
   venir qui rythment la vie de notre commune. ActualitÃ©s Ã‰vÃ©nements Bon 
 de NoÃ«l â€“ CCAS PubliÃ© le23/10 ActualitÃ© Travaux NorÃ©ade rues Joliot C
 urie et AndrÃ© Coupez PubliÃ© le04/11 ActualitÃ© [â€¦]\n\nSamed
LOCATION:59282 Douchy Les Mines
URL:https://bradeur.fr/braderie.php?slug=association-loisirs-detente-brocan
 te
END:VEVENT
END:VCALENDAR
